BEGIN:VCALENDAR
VERSION:2.0
PRODID:-//Foundation Paul van Kemenade - ECPv5.16.1//NONSGML v1.0//EN
CALSCALE:GREGORIAN
METHOD:PUBLISH
X-WR-CALNAME:Foundation Paul van Kemenade
X-ORIGINAL-URL:https://www.paulvankemenade.com
X-WR-CALDESC:Evenementen voor Foundation Paul van Kemenade
BEGIN:VTIMEZONE
TZID:Europe/Paris
BEGIN:DAYLIGHT
TZOFFSETFROM:+0100
TZOFFSETTO:+0200
TZNAME:CEST
DTSTART:20220327T010000
END:DAYLIGHT
BEGIN:STANDARD
TZOFFSETFROM:+0200
TZOFFSETTO:+0100
TZNAME:CET
DTSTART:20221030T010000
END:STANDARD
END:VTIMEZONE
BEGIN:VEVENT
DTSTART;VALUE=DATE:20220222
DTEND;VALUE=DATE:20220224
DTSTAMP:20260423T071330
CREATED:20211227T222813Z
LAST-MODIFIED:20211227T222813Z
UID:13627-1645488000-1645660799@www.paulvankemenade.com
SUMMARY:Opnames Duo Busch-Van Kemenade & Van Kemenade 'classic' Quintet
DESCRIPTION:Nieuwe cd opnamen in studio Maarweg Keulen Duitsland
URL:https://www.paulvankemenade.com/agenda/opnames-duo-busch-van-kemenade-van-kemenade-classic-quintet/
LOCATION:Maarweg Studio Keulen\, Keulen\, Duitsland
END:VEVENT
END:VCALENDAR