BEGIN:VCALENDAR
VERSION:2.0
PRODID:-//Foundation Paul van Kemenade - ECPv5.16.1//NONSGML v1.0//EN
CALSCALE:GREGORIAN
METHOD:PUBLISH
X-WR-CALNAME:Foundation Paul van Kemenade
X-ORIGINAL-URL:https://www.paulvankemenade.com
X-WR-CALDESC:Evenementen voor Foundation Paul van Kemenade
BEGIN:VTIMEZONE
TZID:Europe/Paris
BEGIN:DAYLIGHT
TZOFFSETFROM:+0100
TZOFFSETTO:+0200
TZNAME:CEST
DTSTART:20220327T010000
END:DAYLIGHT
BEGIN:STANDARD
TZOFFSETFROM:+0200
TZOFFSETTO:+0100
TZNAME:CET
DTSTART:20221030T010000
END:STANDARD
END:VTIMEZONE
BEGIN:VEVENT
DTSTART;TZID=Europe/Paris:20220308T080000
DTEND;TZID=Europe/Paris:20220308T170000
DTSTAMP:20260423T071318
CREATED:20220308T120147Z
LAST-MODIFIED:20220308T120147Z
UID:13776-1646726400-1646758800@www.paulvankemenade.com
SUMMARY:Paul van Kemenade 'classic' Quintet
DESCRIPTION:Jeroen van Vliet-Eric van der Westen-Pieter Bast-Louk Boudesteijn-Paul van Kemenade. \nTour between may 17 till june 16 2024. Bookings quintet@paulvankemenade.nl
URL:https://www.paulvankemenade.com/agenda/paul-van-kemenade-classic-quintet-10/
END:VEVENT
END:VCALENDAR