BEGIN:VCALENDAR
VERSION:2.0
PRODID:-//Foundation Paul van Kemenade - ECPv5.16.1//NONSGML v1.0//EN
CALSCALE:GREGORIAN
METHOD:PUBLISH
X-WR-CALNAME:Foundation Paul van Kemenade
X-ORIGINAL-URL:https://www.paulvankemenade.com
X-WR-CALDESC:Evenementen voor Foundation Paul van Kemenade
BEGIN:VTIMEZONE
TZID:Europe/Paris
BEGIN:DAYLIGHT
TZOFFSETFROM:+0100
TZOFFSETTO:+0200
TZNAME:CEST
DTSTART:20240331T010000
END:DAYLIGHT
BEGIN:STANDARD
TZOFFSETFROM:+0200
TZOFFSETTO:+0100
TZNAME:CET
DTSTART:20241027T010000
END:STANDARD
END:VTIMEZONE
BEGIN:VEVENT
DTSTART;TZID=Europe/Paris:20240722T200000
DTEND;TZID=Europe/Paris:20240722T233000
DTSTAMP:20260422T130558
CREATED:20240424T171332Z
LAST-MODIFIED:20240424T171332Z
UID:15064-1721678400-1721691000@www.paulvankemenade.com
SUMMARY:Paul van Kemenade 'classic' Quintet
DESCRIPTION:
URL:https://www.paulvankemenade.com/agenda/paul-van-kemenade-classic-quintet-35/
LOCATION:festival Palencia\, Spanje
END:VEVENT
END:VCALENDAR