BEGIN:VCALENDAR
VERSION:2.0
PRODID:-//Foundation Paul van Kemenade - ECPv5.16.1//NONSGML v1.0//EN
CALSCALE:GREGORIAN
METHOD:PUBLISH
X-WR-CALNAME:Foundation Paul van Kemenade
X-ORIGINAL-URL:https://www.paulvankemenade.com
X-WR-CALDESC:Evenementen voor Foundation Paul van Kemenade
BEGIN:VTIMEZONE
TZID:Europe/Paris
BEGIN:DAYLIGHT
TZOFFSETFROM:+0100
TZOFFSETTO:+0200
TZNAME:CEST
DTSTART:20200329T010000
END:DAYLIGHT
BEGIN:STANDARD
TZOFFSETFROM:+0200
TZOFFSETTO:+0100
TZNAME:CET
DTSTART:20201025T010000
END:STANDARD
END:VTIMEZONE
BEGIN:VEVENT
DTSTART;VALUE=DATE:20200720
DTEND;VALUE=DATE:20200721
DTSTAMP:20260422T061756
CREATED:20200104T204456Z
LAST-MODIFIED:20200104T204456Z
UID:12535-1595203200-1595289599@www.paulvankemenade.com
SUMMARY:Van Kemenade Three Horns And A Bass four concerts in Spain (CANCELLED)
DESCRIPTION:
URL:https://www.paulvankemenade.com/agenda/paul-van-kemenade-classic-quintet-5-2/
LOCATION:Sunsets\, Palencia\, Spanje
END:VEVENT
END:VCALENDAR