BEGIN:VCALENDAR
VERSION:2.0
PRODID:-//Foundation Paul van Kemenade - ECPv5.16.1//NONSGML v1.0//EN
CALSCALE:GREGORIAN
METHOD:PUBLISH
X-WR-CALNAME:Foundation Paul van Kemenade
X-ORIGINAL-URL:https://www.paulvankemenade.com
X-WR-CALDESC:Evenementen voor Foundation Paul van Kemenade
BEGIN:VTIMEZONE
TZID:Europe/Paris
BEGIN:DAYLIGHT
TZOFFSETFROM:+0100
TZOFFSETTO:+0200
TZNAME:CEST
DTSTART:20220327T010000
END:DAYLIGHT
BEGIN:STANDARD
TZOFFSETFROM:+0200
TZOFFSETTO:+0100
TZNAME:CET
DTSTART:20221030T010000
END:STANDARD
END:VTIMEZONE
BEGIN:VEVENT
DTSTART;TZID=Europe/Paris:20220130T080000
DTEND;TZID=Europe/Paris:20220130T170000
DTSTAMP:20260423T083948
CREATED:20210609T072416Z
LAST-MODIFIED:20220113T014737Z
UID:13442-1643529600-1643562000@www.paulvankemenade.com
SUMMARY:Paul van Kemenade 'Après-Covid' met duo Van Kemenade-Van 't Hof & Twist (CANCELLED)
DESCRIPTION:Theaterweekend
URL:https://www.paulvankemenade.com/agenda/paul-van-kemenade-en-gasten-apres-covid/
LOCATION:Markant\, Uden
END:VEVENT
END:VCALENDAR