BEGIN:VCALENDAR
VERSION:2.0
PRODID:-//Foundation Paul van Kemenade - ECPv5.16.1//NONSGML v1.0//EN
CALSCALE:GREGORIAN
METHOD:PUBLISH
X-WR-CALNAME:Foundation Paul van Kemenade
X-ORIGINAL-URL:https://www.paulvankemenade.com
X-WR-CALDESC:Evenementen voor Foundation Paul van Kemenade
BEGIN:VTIMEZONE
TZID:Europe/Paris
BEGIN:DAYLIGHT
TZOFFSETFROM:+0100
TZOFFSETTO:+0200
TZNAME:CEST
DTSTART:20240331T010000
END:DAYLIGHT
BEGIN:STANDARD
TZOFFSETFROM:+0200
TZOFFSETTO:+0100
TZNAME:CET
DTSTART:20241027T010000
END:STANDARD
END:VTIMEZONE
BEGIN:VEVENT
DTSTART;TZID=Europe/Paris:20241220T203000
DTEND;TZID=Europe/Paris:20241220T230000
DTSTAMP:20260422T114927
CREATED:20230824T134834Z
LAST-MODIFIED:20240930T154314Z
UID:14688-1734726600-1734735600@www.paulvankemenade.com
SUMMARY:Paul Van Kemenade 'Last Call Concerts' icw 32nd Stranger than Paranoia & Bimhuis.
DESCRIPTION:Ending 50 year career of altoist-composer-organizer Van Kemenade which began in 1974. He celebrates that with some last concerts : Three Horns And A Bass with Angelo Verploegen (flügel)\, Louk Boudesteijn (trb)\, Wiro Mahieu (b) & Van Kemenade (as/comp);  Van Kemenade classic Quintet & guests South Africans Feya Faku (flügel/trp)\, Sydney Mnisi (tenor): 30 year of collaboration 1994-2024 with compositions of all.
URL:https://www.paulvankemenade.com/agenda/paul-van-kemenade-friends-last-call-concerts-2/
LOCATION:BimHuis\, Piet Heinkade 3\, Amsterdam
END:VEVENT
END:VCALENDAR