BEGIN:VCALENDAR
VERSION:2.0
PRODID:-//Foundation Paul van Kemenade - ECPv5.16.1//NONSGML v1.0//EN
CALSCALE:GREGORIAN
METHOD:PUBLISH
X-WR-CALNAME:Foundation Paul van Kemenade
X-ORIGINAL-URL:https://www.paulvankemenade.com
X-WR-CALDESC:Evenementen voor Foundation Paul van Kemenade
BEGIN:VTIMEZONE
TZID:Europe/Paris
BEGIN:DAYLIGHT
TZOFFSETFROM:+0100
TZOFFSETTO:+0200
TZNAME:CEST
DTSTART:20210328T010000
END:DAYLIGHT
BEGIN:STANDARD
TZOFFSETFROM:+0200
TZOFFSETTO:+0100
TZNAME:CET
DTSTART:20211031T010000
END:STANDARD
END:VTIMEZONE
BEGIN:VEVENT
DTSTART;TZID=Europe/Paris:20211127T160000
DTEND;TZID=Europe/Paris:20211127T180000
DTSTAMP:20260423T100642
CREATED:20210418T110812Z
LAST-MODIFIED:20211120T003922Z
UID:13295-1638028800-1638036000@www.paulvankemenade.com
SUMMARY:Podium Trio (Wierbos-Kuiper-Van Kemenade) & gasten Greetje Bijma en Alan Purves
DESCRIPTION:
URL:https://www.paulvankemenade.com/agenda/podium-trio-wierbos-kuiper-van-kemenade-3/
LOCATION:Theater de Doorit\, Groningen
END:VEVENT
END:VCALENDAR