BEGIN:VCALENDAR
VERSION:2.0
PRODID:-//Foundation Paul van Kemenade - ECPv5.16.1//NONSGML v1.0//EN
CALSCALE:GREGORIAN
METHOD:PUBLISH
X-WR-CALNAME:Foundation Paul van Kemenade
X-ORIGINAL-URL:https://www.paulvankemenade.com
X-WR-CALDESC:Evenementen voor Foundation Paul van Kemenade
BEGIN:VTIMEZONE
TZID:Europe/Paris
BEGIN:DAYLIGHT
TZOFFSETFROM:+0100
TZOFFSETTO:+0200
TZNAME:CEST
DTSTART:20240331T010000
END:DAYLIGHT
BEGIN:STANDARD
TZOFFSETFROM:+0200
TZOFFSETTO:+0100
TZNAME:CET
DTSTART:20241027T010000
END:STANDARD
END:VTIMEZONE
BEGIN:VEVENT
DTSTART;TZID=Europe/Paris:20241013T140000
DTEND;TZID=Europe/Paris:20241013T183000
DTSTAMP:20260421T070849
CREATED:20230929T080649Z
LAST-MODIFIED:20240624T234807Z
UID:14756-1728828000-1728844200@www.paulvankemenade.com
SUMMARY:Rund om Hausen #6 muziekwandeling op 4 locaties
DESCRIPTION:Tussen 14\,00 en 18.00 uur de jaarlijkse en allerlaatste super Rund om Hausen #6 muziekwandeling in de Willem II straat en IJzerstraat Tilburg in: Cinecitta (2x) o.a. ruimte X \, International Center en Paradox met een mix van wereldmuziek\, klassieke muziek\, jazz\, Gregoriaanse zang en swing. \nMet medewerking van duo zangeres Monica Akihary (Boy Edgar Prijs 2023) & gitarist Niels Brouwer; Cappella Pratensis kwartet\, Gregoriaanse zang met Tim Braithwaite-superius\, Lior Leibovici-altus\, Peter de Lauretiis-tenor\, Marc Busnel-bassus; duo Eric Vloeimans (trompet) & Jeroen van Vliet (piano); klassieke muziek van duo Janneke van Prooijen viool & Toon Bierman piano; Hammond Sandwich quintet speelt de afterparty tussen 16.45 en 17.45 uur in Paradox met Chris Strik – drums\, Carlo de Wijs & Arno Krijger – hammondorgel\, Jeroen Doomernik – trompet\, Paul van Kemenade – altsax. \nKaarten via: https://paradoxtilburg.nl/programma/rund-um-hausen-6/
URL:https://www.paulvankemenade.com/agenda/rund-om-hausen-6-muziekwandeling-op-4-locaties/
LOCATION:Paradox\, Synagoge\, Cinecitta\, International Center\, Willem II straat\, Tilburg
END:VEVENT
END:VCALENDAR