BEGIN:VCALENDAR
VERSION:2.0
PRODID:-//Foundation Paul van Kemenade - ECPv5.16.1//NONSGML v1.0//EN
CALSCALE:GREGORIAN
METHOD:PUBLISH
X-WR-CALNAME:Foundation Paul van Kemenade
X-ORIGINAL-URL:https://www.paulvankemenade.com
X-WR-CALDESC:Evenementen voor Foundation Paul van Kemenade
BEGIN:VTIMEZONE
TZID:Europe/Paris
BEGIN:DAYLIGHT
TZOFFSETFROM:+0100
TZOFFSETTO:+0200
TZNAME:CEST
DTSTART:20190331T010000
END:DAYLIGHT
BEGIN:STANDARD
TZOFFSETFROM:+0200
TZOFFSETTO:+0100
TZNAME:CET
DTSTART:20191027T010000
END:STANDARD
END:VTIMEZONE
BEGIN:VEVENT
DTSTART;TZID=Europe/Paris:20191029T080000
DTEND;TZID=Europe/Paris:20191112T170000
DTSTAMP:20260420T162116
CREATED:20190104T103200Z
LAST-MODIFIED:20190824T083433Z
UID:9101-1572336000-1573578000@www.paulvankemenade.com
SUMMARY:Russian tour in 10 cities with duo Van Kemenade-Budha Building
DESCRIPTION:Van Kemenade has been invited in Russia again for a big tour between october 28 and november 11 this year. It will be the fifth time in Russia in big concert halls! Concerts in Podolsk\, Tula\, Smolensk\, Vladimir\, Lipetsk\, Oryol\, Voronezh\, Kursk\, Belgorod. After playing in duo with Stevko Busch\, in duo with Brazilian Maria Portugal\, with his quartet Two Horns And A Bass and his ‘classic’ Quintet\, now this time in duo with Budha Building (a.k.a Hans Timmermans).
URL:https://www.paulvankemenade.com/agenda/russian-tour-with-t-b-a/
END:VEVENT
END:VCALENDAR