BEGIN:VCALENDAR
VERSION:2.0
PRODID:-//Foundation Paul van Kemenade - ECPv5.16.1//NONSGML v1.0//EN
CALSCALE:GREGORIAN
METHOD:PUBLISH
X-WR-CALNAME:Foundation Paul van Kemenade
X-ORIGINAL-URL:https://www.paulvankemenade.com
X-WR-CALDESC:Evenementen voor Foundation Paul van Kemenade
BEGIN:VTIMEZONE
TZID:Europe/Paris
BEGIN:DAYLIGHT
TZOFFSETFROM:+0100
TZOFFSETTO:+0200
TZNAME:CEST
DTSTART:20230326T010000
END:DAYLIGHT
BEGIN:STANDARD
TZOFFSETFROM:+0200
TZOFFSETTO:+0100
TZNAME:CET
DTSTART:20231029T010000
END:STANDARD
END:VTIMEZONE
BEGIN:VEVENT
DTSTART;TZID=Europe/Paris:20230308T203000
DTEND;TZID=Europe/Paris:20230308T230000
DTSTAMP:20260421T192621
CREATED:20221202T180631Z
LAST-MODIFIED:20221203T071750Z
UID:14150-1678307400-1678316400@www.paulvankemenade.com
SUMMARY:Stranger than Paranoia i.s.m Paradox presenteren...David Krakauer Mazeltov Cocktail Party
DESCRIPTION:Een super bezetting sextet …feest
URL:https://www.paulvankemenade.com/agenda/stranger-than-paranoia-ism-paradox-presenteren-david-krakauer-mazeltov-cocktail-party/
LOCATION:Paradox Tilburg\, Telegraafstraat 62\, Tilburg
END:VEVENT
END:VCALENDAR