BEGIN:VCALENDAR
VERSION:2.0
PRODID:-//Foundation Paul van Kemenade - ECPv5.16.1//NONSGML v1.0//EN
CALSCALE:GREGORIAN
METHOD:PUBLISH
X-WR-CALNAME:Foundation Paul van Kemenade
X-ORIGINAL-URL:https://www.paulvankemenade.com
X-WR-CALDESC:Evenementen voor Foundation Paul van Kemenade
BEGIN:VTIMEZONE
TZID:Europe/Paris
BEGIN:DAYLIGHT
TZOFFSETFROM:+0100
TZOFFSETTO:+0200
TZNAME:CEST
DTSTART:20220327T010000
END:DAYLIGHT
BEGIN:STANDARD
TZOFFSETFROM:+0200
TZOFFSETTO:+0100
TZNAME:CET
DTSTART:20221030T010000
END:STANDARD
END:VTIMEZONE
BEGIN:VEVENT
DTSTART;TZID=Europe/Paris:20220916T203000
DTEND;TZID=Europe/Paris:20220916T233000
DTSTAMP:20260421T061019
CREATED:20220503T074001Z
LAST-MODIFIED:20220503T074001Z
UID:13844-1663360200-1663371000@www.paulvankemenade.com
SUMMARY:Stranger than Paranoia presenteert...ism JINjazz
DESCRIPTION:Lindenberg Nijmegen met..Paul van Kemenade ‘classic’ Quintet; Bram Stadhouders Suite X; Teis Semey
URL:https://www.paulvankemenade.com/agenda/stranger-than-paranoia-presenteert-ism-jinjazz/
LOCATION:De Lindenberg\, Nijmegen
END:VEVENT
END:VCALENDAR