BEGIN:VCALENDAR
VERSION:2.0
PRODID:-//Foundation Paul van Kemenade - ECPv5.16.1//NONSGML v1.0//EN
CALSCALE:GREGORIAN
METHOD:PUBLISH
X-WR-CALNAME:Foundation Paul van Kemenade
X-ORIGINAL-URL:https://www.paulvankemenade.com
X-WR-CALDESC:Evenementen voor Foundation Paul van Kemenade
BEGIN:VTIMEZONE
TZID:Europe/Paris
BEGIN:DAYLIGHT
TZOFFSETFROM:+0100
TZOFFSETTO:+0200
TZNAME:CEST
DTSTART:20210328T010000
END:DAYLIGHT
BEGIN:STANDARD
TZOFFSETFROM:+0200
TZOFFSETTO:+0100
TZNAME:CET
DTSTART:20211031T010000
END:STANDARD
END:VTIMEZONE
BEGIN:VEVENT
DTSTART;TZID=Europe/Paris:20211228T203000
DTEND;TZID=Europe/Paris:20211228T230000
DTSTAMP:20260421T024835
CREATED:20210814T091404Z
LAST-MODIFIED:20211025T090340Z
UID:13476-1640723400-1640732400@www.paulvankemenade.com
SUMMARY:Stranger than Paranoia presenteert: Harcum\, Dj Grazzhoppa\, Zediam & Brussles Jazz Orchestra.
DESCRIPTION:Het 29e Stranger than Paranoia festival met het programma: Two Places met Monique Harcum\, Dj Grazzhoppa\, Zediam & Brussles Jazz orchestra; The Battle Of The Hammonds met Folkert Oosterbeek – Arno Krijger – Carlo de Wijs – Rob Mostert \n‘Two Places’ neemt je mee op een verrassende tocht langs de orkestrale klank van BJO\, de rhymes van Zediam\, de soul van zangeres Monique Harcum en de mix-\, scratch-\, en samplekunsten van DJ Grazzhoppa. Dit project sloopt muzikale hokjes en creëert nieuwe plekken: Two Places\, at once. \n 
URL:https://www.paulvankemenade.com/agenda/stranger-than-paranoia-presenteert-t-b-a/
LOCATION:Paradox\, Telegraafstraat 62\, Tilburg
END:VEVENT
END:VCALENDAR