BEGIN:VCALENDAR
VERSION:2.0
PRODID:-//Foundation Paul van Kemenade - ECPv5.16.1//NONSGML v1.0//EN
CALSCALE:GREGORIAN
METHOD:PUBLISH
X-WR-CALNAME:Foundation Paul van Kemenade
X-ORIGINAL-URL:https://www.paulvankemenade.com
X-WR-CALDESC:Evenementen voor Foundation Paul van Kemenade
BEGIN:VTIMEZONE
TZID:Europe/Paris
BEGIN:DAYLIGHT
TZOFFSETFROM:+0100
TZOFFSETTO:+0200
TZNAME:CEST
DTSTART:20240331T010000
END:DAYLIGHT
BEGIN:STANDARD
TZOFFSETFROM:+0200
TZOFFSETTO:+0100
TZNAME:CET
DTSTART:20241027T010000
END:STANDARD
END:VTIMEZONE
BEGIN:VEVENT
DTSTART;TZID=Europe/Paris:20241224T200000
DTEND;TZID=Europe/Paris:20241225T000000
DTSTAMP:20260422T101214
CREATED:20220806T203648Z
LAST-MODIFIED:20241001T215627Z
UID:13999-1735070400-1735084800@www.paulvankemenade.com
SUMMARY:Paul Van Kemenade 'Last Call Concerts' icw 32nd Stranger than Paranoia & Paradox.
DESCRIPTION:Ending 50 year career of altoist-composer-organizer Van Kemenade which began in 1974. He celebrates this with some last concerts: Niko Langenhuijsen-Jan Wirken-Van Kemenade; duo Eric van der Westen-Aron Raams; duo Kristina Fuchs-Jeroen van Vliet; Paul van Kemenade classic Quintet.
URL:https://www.paulvankemenade.com/agenda/t-b-a-6/
LOCATION:Paradox\, Telegraafstraat 62\, Tilburg
END:VEVENT
END:VCALENDAR