BEGIN:VCALENDAR
VERSION:2.0
PRODID:-//Foundation Paul van Kemenade - ECPv5.16.1//NONSGML v1.0//EN
CALSCALE:GREGORIAN
METHOD:PUBLISH
X-WR-CALNAME:Foundation Paul van Kemenade
X-ORIGINAL-URL:https://www.paulvankemenade.com
X-WR-CALDESC:Evenementen voor Foundation Paul van Kemenade
BEGIN:VTIMEZONE
TZID:Europe/Paris
BEGIN:DAYLIGHT
TZOFFSETFROM:+0100
TZOFFSETTO:+0200
TZNAME:CEST
DTSTART:20190331T010000
END:DAYLIGHT
BEGIN:STANDARD
TZOFFSETFROM:+0200
TZOFFSETTO:+0100
TZNAME:CET
DTSTART:20191027T010000
END:STANDARD
END:VTIMEZONE
BEGIN:VEVENT
DTSTART;TZID=Europe/Paris:20190607T190000
DTEND;TZID=Europe/Paris:20190607T200000
DTSTAMP:20260425T150702
CREATED:20180920T101057Z
LAST-MODIFIED:20190301T200022Z
UID:8852-1559934000-1559937600@www.paulvankemenade.com
SUMMARY:Anderson-Bennink-Glerum-Van Kemenade
DESCRIPTION:INNtöne festival Diersbach Austria
URL:https://www.paulvankemenade.com/agenda/t-b-a/
LOCATION:INNtöne Musicfestival\, Diersbach\, Oostenrijk
END:VEVENT
END:VCALENDAR