BEGIN:VCALENDAR
VERSION:2.0
PRODID:-//Foundation Paul van Kemenade - ECPv5.16.1//NONSGML v1.0//EN
CALSCALE:GREGORIAN
METHOD:PUBLISH
X-WR-CALNAME:Foundation Paul van Kemenade
X-ORIGINAL-URL:https://www.paulvankemenade.com
X-WR-CALDESC:Evenementen voor Foundation Paul van Kemenade
BEGIN:VTIMEZONE
TZID:Europe/Paris
BEGIN:DAYLIGHT
TZOFFSETFROM:+0100
TZOFFSETTO:+0200
TZNAME:CEST
DTSTART:20200329T010000
END:DAYLIGHT
BEGIN:STANDARD
TZOFFSETFROM:+0200
TZOFFSETTO:+0100
TZNAME:CET
DTSTART:20201025T010000
END:STANDARD
END:VTIMEZONE
BEGIN:VEVENT
DTSTART;TZID=Europe/Paris:20201005T190000
DTEND;TZID=Europe/Paris:20201005T233000
DTSTAMP:20260424T050934
CREATED:20200513T133410Z
LAST-MODIFIED:20200729T165916Z
UID:11254-1601924400-1601940600@www.paulvankemenade.com
SUMMARY:Uitreiking Prins Bernhard Cultuurprijs Noord-Brabant aan Paul van Kemenade
DESCRIPTION:2x concert (voor genodigden) om 19.00 tot 21.00 uur en van 22.00 tot 23.30 uur\, met in het eerste gedeelte tevens de officiële uitreiking van de prijs aan Paul in Paradox Tilburg door de commissaris van de Koning en voorzitter van het Prins Bernhard Cultuurfonds Noord-Brabant. Het door de prijswinnaar samengestelde programma bestaat uit korte optredens met het Zuid Nederlands Workshop Orkest (musici van 15-25 jaar)\, Van Kemenade in duo en trio met de uit Sao Paulo afkomstige Braziliaanse drummer Mariá Portugal en met pianist/keyboardist Jasper van ’t Hof en een duo  met electronisch musicus Budha Building a.k.a. Hans Timmermans.
URL:https://www.paulvankemenade.com/agenda/uitreiking-prins-bernhard-cultuurprijs-noord-brabant-aan-paul-van-kemenade/
LOCATION:Paradox\, Telegraafstraat 62\, Tilburg
END:VEVENT
END:VCALENDAR