BEGIN:VCALENDAR
VERSION:2.0
PRODID:-//Foundation Paul van Kemenade - ECPv5.16.1//NONSGML v1.0//EN
CALSCALE:GREGORIAN
METHOD:PUBLISH
X-WR-CALNAME:Foundation Paul van Kemenade
X-ORIGINAL-URL:https://www.paulvankemenade.com
X-WR-CALDESC:Evenementen voor Foundation Paul van Kemenade
BEGIN:VTIMEZONE
TZID:Europe/Paris
BEGIN:DAYLIGHT
TZOFFSETFROM:+0100
TZOFFSETTO:+0200
TZNAME:CEST
DTSTART:20200329T010000
END:DAYLIGHT
BEGIN:STANDARD
TZOFFSETFROM:+0200
TZOFFSETTO:+0100
TZNAME:CET
DTSTART:20201025T010000
END:STANDARD
END:VTIMEZONE
BEGIN:VEVENT
DTSTART;TZID=Europe/Paris:20200120T203000
DTEND;TZID=Europe/Paris:20200120T233000
DTSTAMP:20260424T202525
CREATED:20190202T062205Z
LAST-MODIFIED:20190202T062205Z
UID:12467-1579552200-1579563000@www.paulvankemenade.com
SUMMARY:Jongerenavond met Zuid Nederlands Workshop Orkest \, Duo Joosten/Meijer\, Utrechts Studenten Big Band.
DESCRIPTION:Een jongerenavond! met in set 1 het Zuid Nederlands Workshop Orkest olv Paul van Kemenade en Jeroen Doomernik\, in set 2 het duo Stef Joosten & Jens Meijer en in set 3 het USBB\, Utrechts Studenten Big Band..komt dat zien en horen…. \n 
URL:https://www.paulvankemenade.com/agenda/uitvoering-zuid-nederlands-workshop-orkest-t-b-a-2/
LOCATION:Paradox\, Telegraafstraat 62\, Tilburg
END:VEVENT
END:VCALENDAR