BEGIN:VCALENDAR
VERSION:2.0
PRODID:-//Foundation Paul van Kemenade - ECPv5.16.1//NONSGML v1.0//EN
CALSCALE:GREGORIAN
METHOD:PUBLISH
X-WR-CALNAME:Foundation Paul van Kemenade
X-ORIGINAL-URL:https://www.paulvankemenade.com
X-WR-CALDESC:Evenementen voor Foundation Paul van Kemenade
BEGIN:VTIMEZONE
TZID:Europe/Paris
BEGIN:DAYLIGHT
TZOFFSETFROM:+0100
TZOFFSETTO:+0200
TZNAME:CEST
DTSTART:20210328T010000
END:DAYLIGHT
BEGIN:STANDARD
TZOFFSETFROM:+0200
TZOFFSETTO:+0100
TZNAME:CET
DTSTART:20211031T010000
END:STANDARD
END:VTIMEZONE
BEGIN:VEVENT
DTSTART;TZID=Europe/Paris:20211031T080000
DTEND;TZID=Europe/Paris:20211115T170000
DTSTAMP:20260422T205650
CREATED:20210615T213100Z
LAST-MODIFIED:20211012T124945Z
UID:13447-1635667200-1636995600@www.paulvankemenade.com
SUMMARY:Van Kemenade 6th tour in Russia (CANCELLED DUE TO CORONA RESTRICTIONS)
DESCRIPTION:
URL:https://www.paulvankemenade.com/agenda/van-kemenade-6th-tour-in-russia/
LOCATION:Russian cities\, Rusland
END:VEVENT
END:VCALENDAR