BEGIN:VCALENDAR
VERSION:2.0
PRODID:-//Foundation Paul van Kemenade - ECPv5.16.1//NONSGML v1.0//EN
CALSCALE:GREGORIAN
METHOD:PUBLISH
X-WR-CALNAME:Foundation Paul van Kemenade
X-ORIGINAL-URL:https://www.paulvankemenade.com
X-WR-CALDESC:Evenementen voor Foundation Paul van Kemenade
BEGIN:VTIMEZONE
TZID:Europe/Paris
BEGIN:DAYLIGHT
TZOFFSETFROM:+0100
TZOFFSETTO:+0200
TZNAME:CEST
DTSTART:20200329T010000
END:DAYLIGHT
BEGIN:STANDARD
TZOFFSETFROM:+0200
TZOFFSETTO:+0100
TZNAME:CET
DTSTART:20201025T010000
END:STANDARD
END:VTIMEZONE
BEGIN:VEVENT
DTSTART;VALUE=DATE:20201023
DTEND;VALUE=DATE:20201026
DTSTAMP:20260424T021449
CREATED:20200204T145957Z
LAST-MODIFIED:20200630T142928Z
UID:10958-1603411200-1603670399@www.paulvankemenade.com
SUMMARY:Van Kemenade & band/duo (CANCELLED)
DESCRIPTION:
URL:https://www.paulvankemenade.com/agenda/van-kemenade-band-duo-optional/
LOCATION:Optional\, diverse\, Polen
END:VEVENT
END:VCALENDAR