BEGIN:VCALENDAR
VERSION:2.0
PRODID:-//Foundation Paul van Kemenade - ECPv5.16.1//NONSGML v1.0//EN
CALSCALE:GREGORIAN
METHOD:PUBLISH
X-WR-CALNAME:Foundation Paul van Kemenade
X-ORIGINAL-URL:https://www.paulvankemenade.com
X-WR-CALDESC:Evenementen voor Foundation Paul van Kemenade
BEGIN:VTIMEZONE
TZID:Europe/Paris
BEGIN:DAYLIGHT
TZOFFSETFROM:+0100
TZOFFSETTO:+0200
TZNAME:CEST
DTSTART:20200329T010000
END:DAYLIGHT
BEGIN:STANDARD
TZOFFSETFROM:+0200
TZOFFSETTO:+0100
TZNAME:CET
DTSTART:20201025T010000
END:STANDARD
END:VTIMEZONE
BEGIN:VEVENT
DTSTART;TZID=Europe/Paris:20201024T000000
DTEND;TZID=Europe/Paris:20201024T235900
DTSTAMP:20260423T204614
CREATED:20200217T021904Z
LAST-MODIFIED:20200630T191553Z
UID:11043-1603497600-1603583940@www.paulvankemenade.com
SUMMARY:Duo Stevko Busch - Paul Van Kemenade (CANCELLED)
DESCRIPTION:At the XXVI Komeda Jazz Festival in Slupsk Poland
URL:https://www.paulvankemenade.com/agenda/van-kemenade-band/
LOCATION:Philharmony Hall\, Slupsk\, Polen
END:VEVENT
END:VCALENDAR