BEGIN:VCALENDAR
VERSION:2.0
PRODID:-//Foundation Paul van Kemenade - ECPv5.16.1//NONSGML v1.0//EN
CALSCALE:GREGORIAN
METHOD:PUBLISH
X-WR-CALNAME:Foundation Paul van Kemenade
X-ORIGINAL-URL:https://www.paulvankemenade.com
X-WR-CALDESC:Evenementen voor Foundation Paul van Kemenade
BEGIN:VTIMEZONE
TZID:Europe/Paris
BEGIN:DAYLIGHT
TZOFFSETFROM:+0100
TZOFFSETTO:+0200
TZNAME:CEST
DTSTART:20230326T010000
END:DAYLIGHT
BEGIN:STANDARD
TZOFFSETFROM:+0200
TZOFFSETTO:+0100
TZNAME:CET
DTSTART:20231029T010000
END:STANDARD
END:VTIMEZONE
BEGIN:VEVENT
DTSTART;TZID=Europe/Paris:20230423T080000
DTEND;TZID=Europe/Paris:20230423T170000
DTSTAMP:20260422T020638
CREATED:20220217T233114Z
LAST-MODIFIED:20221216T213228Z
UID:13723-1682236800-1682269200@www.paulvankemenade.com
SUMMARY:Van Kemenade Hammond Sandwich & Stevko Busch-Van Kemenade in de serie Après-Covid
DESCRIPTION:
URL:https://www.paulvankemenade.com/agenda/van-kemenade-c-s-apres-covid-met/
LOCATION:Theater De Lievekamp\, Oss
END:VEVENT
END:VCALENDAR