BEGIN:VCALENDAR
VERSION:2.0
PRODID:-//Foundation Paul van Kemenade - ECPv5.16.1//NONSGML v1.0//EN
CALSCALE:GREGORIAN
METHOD:PUBLISH
X-WR-CALNAME:Foundation Paul van Kemenade
X-ORIGINAL-URL:https://www.paulvankemenade.com
X-WR-CALDESC:Evenementen voor Foundation Paul van Kemenade
BEGIN:VTIMEZONE
TZID:Europe/Paris
BEGIN:DAYLIGHT
TZOFFSETFROM:+0100
TZOFFSETTO:+0200
TZNAME:CEST
DTSTART:20210328T010000
END:DAYLIGHT
BEGIN:STANDARD
TZOFFSETFROM:+0200
TZOFFSETTO:+0100
TZNAME:CET
DTSTART:20211031T010000
END:STANDARD
END:VTIMEZONE
BEGIN:VEVENT
DTSTART;TZID=Europe/Paris:20211022T080000
DTEND;TZID=Europe/Paris:20211022T170000
DTSTAMP:20260421T232516
CREATED:20210424T230015Z
LAST-MODIFIED:20210619T203435Z
UID:13325-1634889600-1634922000@www.paulvankemenade.com
SUMMARY:Van Kemenade - Jasper van 't Hof duo & quintet Hammond Sandwich
DESCRIPTION:In de serie Après-Covid wordt een dubbelconcert uitgevoerd met in set 1 het duo van twee Boy Edgar Prijswinnaars (Nederlandse ouevre prijs voor jazzmusici) t.w. pianist Jasper van ’t Hof en altist Paul van Kemenade. Van Kemenade zal ook mee spelen in set 2 met het quintet Hammond Sandwich met daarin flügelspeler Jeroen Doomernik\, de weergaloze drummer Chris Strik en twee Hammond organisten Arno Krijger en Carlo de Wijs.
URL:https://www.paulvankemenade.com/agenda/van-kemenade-gasten-apres-covid-optie/
LOCATION:Theater de Tiliander\, Oisterwijk
END:VEVENT
END:VCALENDAR