BEGIN:VCALENDAR
VERSION:2.0
PRODID:-//Foundation Paul van Kemenade - ECPv5.16.1//NONSGML v1.0//EN
CALSCALE:GREGORIAN
METHOD:PUBLISH
X-WR-CALNAME:Foundation Paul van Kemenade
X-ORIGINAL-URL:https://www.paulvankemenade.com
X-WR-CALDESC:Evenementen voor Foundation Paul van Kemenade
BEGIN:VTIMEZONE
TZID:Europe/Paris
BEGIN:DAYLIGHT
TZOFFSETFROM:+0100
TZOFFSETTO:+0200
TZNAME:CEST
DTSTART:20190331T010000
END:DAYLIGHT
BEGIN:STANDARD
TZOFFSETFROM:+0200
TZOFFSETTO:+0100
TZNAME:CET
DTSTART:20191027T010000
END:STANDARD
END:VTIMEZONE
BEGIN:VEVENT
DTSTART;TZID=Europe/Paris:20190524T213000
DTEND;TZID=Europe/Paris:20190524T223000
DTSTAMP:20260423T110541
CREATED:20180913T113537Z
LAST-MODIFIED:20190407T234617Z
UID:8836-1558733400-1558737000@www.paulvankemenade.com
SUMMARY:Van Kemenade Hammond Sandwich
DESCRIPTION:New project with two Hammond organists with Carlo de Wijs & Arno Krijger ( Hammond organ)\, Chris Strik (drums)\, Jeroen Doomernik (trumpet)\, Paul van Kemenade (altosax).
URL:https://www.paulvankemenade.com/agenda/van-kemenade-hammond-sandwich/
LOCATION:Amersfoort Jazzfestival\, Lieve Vrrouwenkerkhof\, Amersfoort
END:VEVENT
END:VCALENDAR