BEGIN:VCALENDAR
VERSION:2.0
PRODID:-//Foundation Paul van Kemenade - ECPv5.16.1//NONSGML v1.0//EN
CALSCALE:GREGORIAN
METHOD:PUBLISH
X-WR-CALNAME:Foundation Paul van Kemenade
X-ORIGINAL-URL:https://www.paulvankemenade.com
X-WR-CALDESC:Evenementen voor Foundation Paul van Kemenade
BEGIN:VTIMEZONE
TZID:Europe/Paris
BEGIN:DAYLIGHT
TZOFFSETFROM:+0100
TZOFFSETTO:+0200
TZNAME:CEST
DTSTART:20190331T010000
END:DAYLIGHT
BEGIN:STANDARD
TZOFFSETFROM:+0200
TZOFFSETTO:+0100
TZNAME:CET
DTSTART:20191027T010000
END:STANDARD
END:VTIMEZONE
BEGIN:VEVENT
DTSTART;TZID=Europe/Paris:20190313T203000
DTEND;TZID=Europe/Paris:20190313T230000
DTSTAMP:20260425T235647
CREATED:20180502T113550Z
LAST-MODIFIED:20180502T113550Z
UID:12364-1552509000-1552518000@www.paulvankemenade.com
SUMMARY:Van Kemenade invites...
DESCRIPTION:Een serie Van Kemenade invites…avonden alweer voor het vijfde jaar op rij…deze keer staat electronica centraal met duo Budha Building a.k.a. Hans Timmermans\, ……….en ………
URL:https://www.paulvankemenade.com/agenda/van-kemenade-invites-13-2/
LOCATION:Paradox\, Telegraafstraat 62\, Tilburg
END:VEVENT
END:VCALENDAR