BEGIN:VCALENDAR
VERSION:2.0
PRODID:-//Foundation Paul van Kemenade - ECPv5.16.1//NONSGML v1.0//EN
CALSCALE:GREGORIAN
METHOD:PUBLISH
X-WR-CALNAME:Foundation Paul van Kemenade
X-ORIGINAL-URL:https://www.paulvankemenade.com
X-WR-CALDESC:Evenementen voor Foundation Paul van Kemenade
BEGIN:VTIMEZONE
TZID:Europe/Paris
BEGIN:DAYLIGHT
TZOFFSETFROM:+0100
TZOFFSETTO:+0200
TZNAME:CEST
DTSTART:20190331T010000
END:DAYLIGHT
BEGIN:STANDARD
TZOFFSETFROM:+0200
TZOFFSETTO:+0100
TZNAME:CET
DTSTART:20191027T010000
END:STANDARD
END:VTIMEZONE
BEGIN:VEVENT
DTSTART;TZID=Europe/Paris:20190615T203000
DTEND;TZID=Europe/Paris:20190615T223000
DTSTAMP:20260423T031429
CREATED:20190327T074504Z
LAST-MODIFIED:20190327T074504Z
UID:9308-1560630600-1560637800@www.paulvankemenade.com
SUMMARY:Van Kemenade & Two Horns And A Bass
DESCRIPTION:Angelo Verploegen (flugelhorn)\, Wiro Mahieu (contrabas)\, Paul van Kemenade (altsax & comp.). \nEen bijzondere ervaring; varende concerten\, buitenconcert onder de brug \, inschepen gasten vanaf 20.45\, vertrek bootjes 21.15 naar de brug concertlocatie…startlocatie Burgemeester Jansen\, Piushaven 22 Tilburg..reserveren..info@tilburgtewater.nl\, www.tilburgtewater.nl
URL:https://www.paulvankemenade.com/agenda/van-kemenade-two-horns-and-a-bass/
LOCATION:Sous le Pont\, Piushaven 22\, Tilburg
END:VEVENT
END:VCALENDAR