BEGIN:VCALENDAR
VERSION:2.0
PRODID:-//Foundation Paul van Kemenade - ECPv5.16.1//NONSGML v1.0//EN
CALSCALE:GREGORIAN
METHOD:PUBLISH
X-WR-CALNAME:Foundation Paul van Kemenade
X-ORIGINAL-URL:https://www.paulvankemenade.com
X-WR-CALDESC:Evenementen voor Foundation Paul van Kemenade
BEGIN:VTIMEZONE
TZID:Europe/Paris
BEGIN:DAYLIGHT
TZOFFSETFROM:+0100
TZOFFSETTO:+0200
TZNAME:CEST
DTSTART:20200329T010000
END:DAYLIGHT
BEGIN:STANDARD
TZOFFSETFROM:+0200
TZOFFSETTO:+0100
TZNAME:CET
DTSTART:20201025T010000
END:STANDARD
END:VTIMEZONE
BEGIN:VEVENT
DTSTART;TZID=Europe/Paris:20201204T213000
DTEND;TZID=Europe/Paris:20201204T223000
DTSTAMP:20260423T230216
CREATED:20200903T175947Z
LAST-MODIFIED:20200903T175947Z
UID:12588-1607117400-1607121000@www.paulvankemenade.com
SUMMARY:Van Kemenade's Hammond Sandwich
DESCRIPTION:
URL:https://www.paulvankemenade.com/agenda/van-kemenades-hammond-sandwich-3-2/
LOCATION:Willem Twee poppodium\, Boschdijkstraat 100\, Den Bosch
END:VEVENT
END:VCALENDAR