BEGIN:VCALENDAR
VERSION:2.0
PRODID:-//Foundation Paul van Kemenade - ECPv5.16.1//NONSGML v1.0//EN
CALSCALE:GREGORIAN
METHOD:PUBLISH
X-WR-CALNAME:Foundation Paul van Kemenade
X-ORIGINAL-URL:https://www.paulvankemenade.com
X-WR-CALDESC:Evenementen voor Foundation Paul van Kemenade
BEGIN:VTIMEZONE
TZID:Europe/Paris
BEGIN:DAYLIGHT
TZOFFSETFROM:+0100
TZOFFSETTO:+0200
TZNAME:CEST
DTSTART:20190331T010000
END:DAYLIGHT
BEGIN:STANDARD
TZOFFSETFROM:+0200
TZOFFSETTO:+0100
TZNAME:CET
DTSTART:20191027T010000
END:STANDARD
END:VTIMEZONE
BEGIN:VEVENT
DTSTART;TZID=Europe/Paris:20190610T161500
DTEND;TZID=Europe/Paris:20190610T173000
DTSTAMP:20260420T234511
CREATED:20181204T092624Z
LAST-MODIFIED:20190212T215227Z
UID:8983-1560183300-1560187800@www.paulvankemenade.com
SUMMARY:Van Kemenade's Hammond Sandwich
DESCRIPTION:Grooving new band with two Hammond organists Carlo de Wijs & Arno Krijger\, drummer Chris Strik\, trumpeter Jeroen Doomernik and altoist Paul van Kemenadeat the Jazz in Duketown festival.
URL:https://www.paulvankemenade.com/agenda/van-kemenades-hammond-sandwich/
LOCATION:Jazz in Duketown\, Kerkplein\, 's-Hertogenbosch
END:VEVENT
END:VCALENDAR