BEGIN:VCALENDAR
VERSION:2.0
PRODID:-//Foundation Paul van Kemenade - ECPv5.16.1//NONSGML v1.0//EN
CALSCALE:GREGORIAN
METHOD:PUBLISH
X-WR-CALNAME:Foundation Paul van Kemenade
X-ORIGINAL-URL:https://www.paulvankemenade.com
X-WR-CALDESC:Evenementen voor Foundation Paul van Kemenade
BEGIN:VTIMEZONE
TZID:Europe/Paris
BEGIN:DAYLIGHT
TZOFFSETFROM:+0100
TZOFFSETTO:+0200
TZNAME:CEST
DTSTART:20190331T010000
END:DAYLIGHT
BEGIN:STANDARD
TZOFFSETFROM:+0200
TZOFFSETTO:+0100
TZNAME:CET
DTSTART:20191027T010000
END:STANDARD
END:VTIMEZONE
BEGIN:VEVENT
DTSTART;TZID=Europe/Paris:20190414T150000
DTEND;TZID=Europe/Paris:20190414T170000
DTSTAMP:20260422T051509
CREATED:20180502T113412Z
LAST-MODIFIED:20180502T113412Z
UID:8517-1555254000-1555261200@www.paulvankemenade.com
SUMMARY:Van Kemenade's THREE HORNS AND A BASS
DESCRIPTION:With Angelo Verploegen (flügelhorn) – Louk Boudesteijn (trombone) – Wiro Mahieu (bass) – Paul Van Kemenade (altosax & compositions)
URL:https://www.paulvankemenade.com/agenda/van-kemenades-three-horns-and-a-bass-7/
LOCATION:Theater De Stoep\, Spijkenisse
END:VEVENT
END:VCALENDAR