BEGIN:VCALENDAR
VERSION:2.0
PRODID:-//Foundation Paul van Kemenade - ECPv5.16.1//NONSGML v1.0//EN
CALSCALE:GREGORIAN
METHOD:PUBLISH
X-WR-CALNAME:Foundation Paul van Kemenade
X-ORIGINAL-URL:https://www.paulvankemenade.com
X-WR-CALDESC:Evenementen voor Foundation Paul van Kemenade
BEGIN:VTIMEZONE
TZID:Europe/Paris
BEGIN:DAYLIGHT
TZOFFSETFROM:+0100
TZOFFSETTO:+0200
TZNAME:CEST
DTSTART:20210328T010000
END:DAYLIGHT
BEGIN:STANDARD
TZOFFSETFROM:+0200
TZOFFSETTO:+0100
TZNAME:CET
DTSTART:20211031T010000
END:STANDARD
END:VTIMEZONE
BEGIN:VEVENT
DTSTART;TZID=Europe/Paris:20210120T193000
DTEND;TZID=Europe/Paris:20210120T220000
DTSTAMP:20260423T024704
CREATED:20201216T050210Z
LAST-MODIFIED:20210112T152605Z
UID:12666-1611171000-1611180000@www.paulvankemenade.com
SUMMARY:ZNWO Zuid Nederlands Workshop Orkest (CANCELLED)
DESCRIPTION:
URL:https://www.paulvankemenade.com/agenda/znwo-zuid-nederlands-workshop-orkest/
LOCATION:Jazzwerkplaats Den Bosch\, tramkade\, den bosch
END:VEVENT
END:VCALENDAR