BEGIN:VCALENDAR
VERSION:2.0
PRODID:-//Foundation Paul van Kemenade - ECPv5.16.1//NONSGML v1.0//EN
CALSCALE:GREGORIAN
METHOD:PUBLISH
X-WR-CALNAME:Foundation Paul van Kemenade
X-ORIGINAL-URL:https://www.paulvankemenade.com
X-WR-CALDESC:Evenementen voor Foundation Paul van Kemenade
BEGIN:VTIMEZONE
TZID:Europe/Paris
BEGIN:DAYLIGHT
TZOFFSETFROM:+0100
TZOFFSETTO:+0200
TZNAME:CEST
DTSTART:20230326T010000
END:DAYLIGHT
BEGIN:STANDARD
TZOFFSETFROM:+0200
TZOFFSETTO:+0100
TZNAME:CET
DTSTART:20231029T010000
END:STANDARD
END:VTIMEZONE
BEGIN:VEVENT
DTSTART;TZID=Europe/Paris:20230509T203000
DTEND;TZID=Europe/Paris:20230509T230000
DTSTAMP:20260421T201755
CREATED:20221203T071217Z
LAST-MODIFIED:20230507T035026Z
UID:14161-1683664200-1683673200@www.paulvankemenade.com
SUMMARY:Zuid Nederlands Workshop Orkest & Bart Oostindie groep (CANCELLED)
DESCRIPTION:In de serie Après-Covid een samenwerking van Pitboel Theater Sittard \, Bart Oostindie en stichting Paul van Kemenade in enkele optredens van het ZNWO olv Paul van Kemenade en Jeroen Doomernik en een groep conservatorium studenten uit Limburg o.l.v. Bart Oostindie op maandag 8 mei in Pitboel Theater Sittard en 9 mei in de Jazzwerkplaats Den Bosch. Dit krijgt een vervolg op maandag 13  november en 14 november op dezelfde plek in dezelfde stad.
URL:https://www.paulvankemenade.com/agenda/zuid-nederlands-workshop-orkest-bart-oostindie-groep-3/
LOCATION:willem twee / toonzaal den bosch\, den Bosch
END:VEVENT
END:VCALENDAR