BEGIN:VCALENDAR
VERSION:2.0
PRODID:-//Foundation Paul van Kemenade - ECPv5.16.1//NONSGML v1.0//EN
CALSCALE:GREGORIAN
METHOD:PUBLISH
X-WR-CALNAME:Foundation Paul van Kemenade
X-ORIGINAL-URL:https://www.paulvankemenade.com
X-WR-CALDESC:Evenementen voor Foundation Paul van Kemenade
BEGIN:VTIMEZONE
TZID:Europe/Paris
BEGIN:DAYLIGHT
TZOFFSETFROM:+0100
TZOFFSETTO:+0200
TZNAME:CEST
DTSTART:20200329T010000
END:DAYLIGHT
BEGIN:STANDARD
TZOFFSETFROM:+0200
TZOFFSETTO:+0100
TZNAME:CET
DTSTART:20201025T010000
END:STANDARD
END:VTIMEZONE
BEGIN:VEVENT
DTSTART;VALUE=DATE:20200125
DTEND;VALUE=DATE:20200126
DTSTAMP:20260420T112801
CREATED:20190402T131401Z
LAST-MODIFIED:20190402T131401Z
UID:9325-1579910400-1579996799@www.paulvankemenade.com
SUMMARY:Zuid Nederlands Workshop Orkest (ZNWO)
DESCRIPTION:
URL:https://www.paulvankemenade.com/agenda/zuid-nederlands-workshop-orkest-znwo-10/
LOCATION:Rauwkost Festival\, Tramkade\, Den Bosch
END:VEVENT
END:VCALENDAR