BEGIN:VCALENDAR
VERSION:2.0
PRODID:-//Foundation Paul van Kemenade - ECPv5.16.1//NONSGML v1.0//EN
CALSCALE:GREGORIAN
METHOD:PUBLISH
X-WR-CALNAME:Foundation Paul van Kemenade
X-ORIGINAL-URL:https://www.paulvankemenade.com
X-WR-CALDESC:Evenementen voor Foundation Paul van Kemenade
BEGIN:VTIMEZONE
TZID:Europe/Paris
BEGIN:DAYLIGHT
TZOFFSETFROM:+0100
TZOFFSETTO:+0200
TZNAME:CEST
DTSTART:20200329T010000
END:DAYLIGHT
BEGIN:STANDARD
TZOFFSETFROM:+0200
TZOFFSETTO:+0100
TZNAME:CET
DTSTART:20201025T010000
END:STANDARD
END:VTIMEZONE
BEGIN:VEVENT
DTSTART;VALUE=DATE:20200601
DTEND;VALUE=DATE:20200602
DTSTAMP:20260424T105939
CREATED:20200219T142411Z
LAST-MODIFIED:20200219T142411Z
UID:12552-1590969600-1591055999@www.paulvankemenade.com
SUMMARY:Zuid Nederlands Workshop Orkest (ZNWO) (CANCELLED)
DESCRIPTION:olv Paul van Kemenade & Jeroen Doomernik
URL:https://www.paulvankemenade.com/agenda/zuid-nederlands-workshop-orkest-znwo-21-2/
LOCATION:Jazz in Duketown Jazzwerkplaats podium\, Museumplein\, 's-Hertogenbosch
END:VEVENT
END:VCALENDAR