BEGIN:VCALENDAR
VERSION:2.0
PRODID:-//Foundation Paul van Kemenade - ECPv5.16.1//NONSGML v1.0//EN
CALSCALE:GREGORIAN
METHOD:PUBLISH
X-WR-CALNAME:Foundation Paul van Kemenade
X-ORIGINAL-URL:https://www.paulvankemenade.com
X-WR-CALDESC:Evenementen voor Foundation Paul van Kemenade
BEGIN:VTIMEZONE
TZID:Europe/Paris
BEGIN:DAYLIGHT
TZOFFSETFROM:+0100
TZOFFSETTO:+0200
TZNAME:CEST
DTSTART:20210328T010000
END:DAYLIGHT
BEGIN:STANDARD
TZOFFSETFROM:+0200
TZOFFSETTO:+0100
TZNAME:CET
DTSTART:20211031T010000
END:STANDARD
END:VTIMEZONE
BEGIN:VEVENT
DTSTART;TZID=Europe/Paris:20210222T193000
DTEND;TZID=Europe/Paris:20210222T220000
DTSTAMP:20260423T181302
CREATED:20200908T145519Z
LAST-MODIFIED:20210208T153807Z
UID:12591-1614022200-1614031200@www.paulvankemenade.com
SUMMARY:Zuid Nederlands Workshop Orkest (ZNWO) (CANCELLED)
DESCRIPTION:
URL:https://www.paulvankemenade.com/agenda/zuid-nederlands-workshop-orkest-znwo-25-2/
LOCATION:Paradox\, Telegraafstraat 62\, Tilburg
END:VEVENT
END:VCALENDAR