BEGIN:VCALENDAR
VERSION:2.0
PRODID:-//Foundation Paul van Kemenade - ECPv5.16.1//NONSGML v1.0//EN
CALSCALE:GREGORIAN
METHOD:PUBLISH
X-WR-CALNAME:Foundation Paul van Kemenade
X-ORIGINAL-URL:https://www.paulvankemenade.com
X-WR-CALDESC:Evenementen voor Foundation Paul van Kemenade
BEGIN:VTIMEZONE
TZID:Europe/Paris
BEGIN:DAYLIGHT
TZOFFSETFROM:+0100
TZOFFSETTO:+0200
TZNAME:CEST
DTSTART:20200329T010000
END:DAYLIGHT
BEGIN:STANDARD
TZOFFSETFROM:+0200
TZOFFSETTO:+0100
TZNAME:CET
DTSTART:20201025T010000
END:STANDARD
END:VTIMEZONE
BEGIN:VEVENT
DTSTART;TZID=Europe/Paris:20201214T193000
DTEND;TZID=Europe/Paris:20201214T220000
DTSTAMP:20260420T232355
CREATED:20200406T092502Z
LAST-MODIFIED:20201210T170947Z
UID:11168-1607974200-1607983200@www.paulvankemenade.com
SUMMARY:Zuid Nederlands Workshop Orkest (ZNWO)
DESCRIPTION:
URL:https://www.paulvankemenade.com/agenda/zuid-nederlands-workshop-orkest-znwo-31/
LOCATION:Jazzwerkplaats\, Tramkade\, Den Bosch
END:VEVENT
END:VCALENDAR