BEGIN:VCALENDAR
VERSION:2.0
PRODID:-//Foundation Paul van Kemenade - ECPv5.16.1//NONSGML v1.0//EN
CALSCALE:GREGORIAN
METHOD:PUBLISH
X-WR-CALNAME:Foundation Paul van Kemenade
X-ORIGINAL-URL:https://www.paulvankemenade.com
X-WR-CALDESC:Evenementen voor Foundation Paul van Kemenade
BEGIN:VTIMEZONE
TZID:Europe/Paris
BEGIN:DAYLIGHT
TZOFFSETFROM:+0100
TZOFFSETTO:+0200
TZNAME:CEST
DTSTART:20220327T010000
END:DAYLIGHT
BEGIN:STANDARD
TZOFFSETFROM:+0200
TZOFFSETTO:+0100
TZNAME:CET
DTSTART:20221030T010000
END:STANDARD
END:VTIMEZONE
BEGIN:VEVENT
DTSTART;TZID=Europe/Paris:20221128T193000
DTEND;TZID=Europe/Paris:20221128T220000
DTSTAMP:20260423T010502
CREATED:20220805T213814Z
LAST-MODIFIED:20220805T213814Z
UID:13963-1669663800-1669672800@www.paulvankemenade.com
SUMMARY:Zuid Nederlands Workshop Orkest (ZNWO)
DESCRIPTION:
URL:https://www.paulvankemenade.com/agenda/zuid-nederlands-workshop-orkest-znwo-51/
LOCATION:Jazzwerkplaats Den Bosch\, tramkade\, den bosch
END:VEVENT
END:VCALENDAR