BEGIN:VCALENDAR
VERSION:2.0
PRODID:-//Foundation Paul van Kemenade - ECPv5.16.1//NONSGML v1.0//EN
CALSCALE:GREGORIAN
METHOD:PUBLISH
X-WR-CALNAME:Foundation Paul van Kemenade
X-ORIGINAL-URL:https://www.paulvankemenade.com
X-WR-CALDESC:Evenementen voor Foundation Paul van Kemenade
BEGIN:VTIMEZONE
TZID:Europe/Paris
BEGIN:DAYLIGHT
TZOFFSETFROM:+0100
TZOFFSETTO:+0200
TZNAME:CEST
DTSTART:20190331T010000
END:DAYLIGHT
BEGIN:STANDARD
TZOFFSETFROM:+0200
TZOFFSETTO:+0100
TZNAME:CET
DTSTART:20191027T010000
END:STANDARD
END:VTIMEZONE
BEGIN:VEVENT
DTSTART;TZID=Europe/Paris:20190415T193000
DTEND;TZID=Europe/Paris:20190415T220000
DTSTAMP:20260423T210546
CREATED:20180531T110703Z
LAST-MODIFIED:20180531T110703Z
UID:8605-1555356600-1555365600@www.paulvankemenade.com
SUMMARY:Zuid Nederlands Workshop Orkest (ZNWO)
DESCRIPTION:Nieuwe lichting jonge musici van 15-25 jaar olv Paul van Kemenade en Jeroen Doomernik.
URL:https://www.paulvankemenade.com/agenda/zuid-nederlands-workshop-orkest-znwo-6/
LOCATION:Paradox\, Telegraafstraat 62\, Tilburg
END:VEVENT
END:VCALENDAR