BEGIN:VCALENDAR
VERSION:2.0
PRODID:-//Foundation Paul van Kemenade - ECPv5.16.1//NONSGML v1.0//EN
CALSCALE:GREGORIAN
METHOD:PUBLISH
X-WR-CALNAME:Foundation Paul van Kemenade
X-ORIGINAL-URL:https://www.paulvankemenade.com
X-WR-CALDESC:Evenementen voor Foundation Paul van Kemenade
BEGIN:VTIMEZONE
TZID:Europe/Paris
BEGIN:DAYLIGHT
TZOFFSETFROM:+0100
TZOFFSETTO:+0200
TZNAME:CEST
DTSTART:20230326T010000
END:DAYLIGHT
BEGIN:STANDARD
TZOFFSETFROM:+0200
TZOFFSETTO:+0100
TZNAME:CET
DTSTART:20231029T010000
END:STANDARD
END:VTIMEZONE
BEGIN:VEVENT
DTSTART;TZID=Europe/Paris:20230605T203000
DTEND;TZID=Europe/Paris:20230605T230000
DTSTAMP:20260422T191916
CREATED:20221216T213549Z
LAST-MODIFIED:20230528T105400Z
UID:14212-1685997000-1686006000@www.paulvankemenade.com
SUMMARY:Zuid Nederlands Workshop Orkest (ZNWO) postponed till october 15 Rund om Hausen #5
DESCRIPTION:Presentatie van het jongerenorkest (15 – 25 jaar)  olv Paul van Kemenade & Jeroen Doomernik
URL:https://www.paulvankemenade.com/agenda/zuid-nederlands-workshop-orkest-znwo-63/
END:VEVENT
END:VCALENDAR